BEGIN:VCALENDAR
VERSION:2.0
PRODID:-//wp-events-plugin.com//7.2.3.1//EN
BEGIN:VEVENT
UID:1753@swove.nl
DTSTART:20260303T151500Z
DTEND:20261229T161500Z
DTSTAMP:20260210T120822Z
URL:https://swove.nl/evenementen/samen-bewegen-bij-dn-bond/
SUMMARY:Samen bewegen bij D’n Bond
DESCRIPTION:Gun jezelf elke week een moment van beweging én gezelligheid b
 ij Sport voor Senioren. Door actief bezig te zijn verbeter je je conditie\
 , werk je aan je vitaliteit en krijg je meer energie. Je beweegt op een te
 mpo dat bij jou past. Iedereen kan meedoen\, ook zonder sportervaring. Bov
 endien is het een fijne manier om andere mensen te ontmoeten. Want samen b
 ewegen is leuker.\n\nWanneer : iedere dinsdagmiddag van 15.15 tot 16.15 uu
 r (incl. koffiemoment).\nWaar : Dorpshuis D’n Bond\, Rapportstraat 29\, 
 5504 BN Veldhoven.\n\nHet werkt zo:\nJe kunt gratis meedoen met een proefl
 es. Daarna sluit je een abonnement af bij Pro-Athletics.\n\nMeer info : SW
 OVE werkt samen met Irene van Pro-Athletics. Neem bij vragen contact met h
 aar op.\nBel Irene op 06-49089349 of stuur een e-mail naar irene@pro-athle
 tics.nl.
LOCATION:Dorpshuis D'n Bond\, Rapportstraat  25\, Veldhoven\, 5504 BN\, Ned
 erland
X-APPLE-STRUCTURED-LOCATION;VALUE=URI;X-ADDRESS=Rapportstraat  25\, Veldhov
 en\, 5504 BN\, Nederland;X-APPLE-RADIUS=100;X-TITLE=Dorpshuis D'n Bond:geo
 :0,0
END:VEVENT
END:VCALENDAR