BEGIN:VCALENDAR
VERSION:2.0
PRODID:-//wp-events-plugin.com//7.2.3.1//EN
BEGIN:VEVENT
UID:1851@swove.nl
DTSTART:20260508T000000Z
DTEND:20260508T000000Z
DTSTAMP:20260326T102748Z
URL:https://swove.nl/evenementen/koffiemoment-met-wisselende-activiteit-20
 26-04-10-2026-05-08/
SUMMARY:Koffiemoment met wisselende activiteit
DESCRIPTION:De tweede vrijdag van de maand doen we steeds een andere activi
 teit. We zingen met een koor of doen een leuke quiz.\nHeb je een idee voor
  een activiteit? Laat het ons weten!\n\nDus b.v. op\n\n 	10 april met een 
 quiz\n 	8 mei met het Amici Zangkoor\, gezellige oude liedjes zingen\n 	12
  juni gewoon lekker een bakkie doen\n 	10 juli een gezellige activiteit\n\
 nWanneer : van 13.00 tot 15.00 uur.\nWaar : Dorpshuis D'n Bond Rapportstra
 at 29\, Veldhoven.
LOCATION:Dorpshuis D'n Bond\, Rapportstraat  25\, Veldhoven\, 5504 BN\, Ned
 erland
X-APPLE-STRUCTURED-LOCATION;VALUE=URI;X-ADDRESS=Rapportstraat  25\, Veldhov
 en\, 5504 BN\, Nederland;X-APPLE-RADIUS=100;X-TITLE=Dorpshuis D'n Bond:geo
 :0,0
END:VEVENT
END:VCALENDAR