BEGIN:VCALENDAR
VERSION:2.0
PRODID:-//wp-events-plugin.com//7.2.3.1//EN
BEGIN:VEVENT
UID:1843@swove.nl
DTSTART:20260529T000000Z
DTEND:20260529T000000Z
DTSTAMP:20260326T102259Z
URL:https://swove.nl/evenementen/koffiemoment-met-themabijeenkomst-2026-05
 -29/
SUMMARY:Koffiemoment met themabijeenkomst
DESCRIPTION:De vierde vrijdag van de maand bespreken we een actueel of inte
 ressant thema. Je bent van harte welkom om mee te doen of gezellig een kop
 je koffie of thee te\nkomen drinken. Dus op 24 april\, 29 mei en 26 juni.\
 n\nWanneer : van 13.00 tot 15.00 uur.\nWaar : Dorpshuis D'n Bond Rapportst
 raat 29\, Veldhoven
LOCATION:Dorpshuis D'n Bond\, Rapportstraat  25\, Veldhoven\, 5504 BN\, Ned
 erland
X-APPLE-STRUCTURED-LOCATION;VALUE=URI;X-ADDRESS=Rapportstraat  25\, Veldhov
 en\, 5504 BN\, Nederland;X-APPLE-RADIUS=100;X-TITLE=Dorpshuis D'n Bond:geo
 :0,0
END:VEVENT
END:VCALENDAR