BEGIN:VCALENDAR
VERSION:2.0
PRODID:-//wp-events-plugin.com//7.2.3.1//EN
BEGIN:VEVENT
UID:1847@swove.nl
DTSTART:20260501T130000Z
DTEND:20260501T150000Z
DTSTAMP:20260326T102150Z
URL:https://swove.nl/evenementen/koffiemoment-met-kaarten-maken-2026-05-01
 /
SUMMARY:Koffiemoment met kaarten maken
DESCRIPTION:Iedere eerste vrijdag van de maand laten we de kunst van het pa
 piervouwen zien. Kom je ook een mooi kaartje maken?\n\nDus op 3 april\, 1 
 mei en 5 juni.\n\nWanneer : van 13.00 tot 15.00 uur.\nWaar : Dorpshuis D'n
  Bond Rapportstraat 29\, Veldhoven
LOCATION:Dorpshuis D'n Bond\, Rapportstraat  25\, Veldhoven\, 5504 BN\, Ned
 erland
X-APPLE-STRUCTURED-LOCATION;VALUE=URI;X-ADDRESS=Rapportstraat  25\, Veldhov
 en\, 5504 BN\, Nederland;X-APPLE-RADIUS=100;X-TITLE=Dorpshuis D'n Bond:geo
 :0,0
END:VEVENT
END:VCALENDAR