BEGIN:VCALENDAR
VERSION:2.0
PRODID:-//wp-events-plugin.com//7.2.3.1//EN
BEGIN:VEVENT
UID:1861@swove.nl
DTSTART:20261002T000000Z
DTEND:20261002T000000Z
DTSTAMP:20260326T112549Z
URL:https://swove.nl/evenementen/koffiedrinkmoment-2026-10-02/
SUMMARY:Koffiedrinkmoment
DESCRIPTION:Waar worden de beste gesprekken gevoerd? Precies\, bij een bakk
 ie koffie of thee. Meestal gaat dat vanzelf en anders zijn er vrijwilliger
 s die het gesprek op gang helpen. Er is altijd meer dan genoeg te bespreke
 n en daarom komen senioren graag een kopje koffie bij ons drinken. Dat kan
  op verschillende dagen op verschillende locaties in Veldhoven. De toegang
  is gratis en iedereen is welkom.\n\nGemeenschapshuis D’n Bond\, Rapport
 straat 29\, Veldhoven.\nWanneer : Iedere vrijdagmiddag vanaf 13.00 tot 15.
 00 uur.
LOCATION:Dorpshuis D'n Bond\, Rapportstraat  25\, Veldhoven\, 5504 BN\, Ned
 erland
X-APPLE-STRUCTURED-LOCATION;VALUE=URI;X-ADDRESS=Rapportstraat  25\, Veldhov
 en\, 5504 BN\, Nederland;X-APPLE-RADIUS=100;X-TITLE=Dorpshuis D'n Bond:geo
 :0,0
END:VEVENT
END:VCALENDAR