BEGIN:VCALENDAR
VERSION:2.0
PRODID:-//wp-events-plugin.com//7.2.3.1//EN
BEGIN:VEVENT
UID:123@swove.nl
DTSTART:20250602T140000Z
DTEND:20250602T153000Z
DTSTAMP:20250207T100929Z
URL:https://swove.nl/evenementen/inloop-ontmoeten-in-verlies-veldhoven-4/
SUMMARY:Inloop Ontmoeten in Verlies Veldhoven
DESCRIPTION:Voor iedereen met verlieservaring\nOntmoeten in verlies\, is vo
 or iedereen met een verlieservaring. Dat kan een ontslag\, echtscheiding o
 f verlies van een partner zijn. Er wordt gehuild\, gelachen en gedeeld ove
 r verlies. Alles mag er zijn. We beginnen met een gedicht of lied (om de t
 oon te zetten) en eindigen daarmee. De groep spreekt zodat mensen herkenni
 ng en verbinding voelen. Daarnaast zijn er geregeld activiteiten. De inloo
 p is maandelijks met uitzondering van schoolvakanties.\n\nJe bent van hart
 e welkom. Entree is gratis.\n\nWil je meer weten?\nBel of mail dan Suzanne
  Buzing: s.buzing@swove.nl\, 06-10633171 of Marian Gruiters: mariangruiter
 s@cordaadwelzijn.nl\, 06-53539624\n\nHeb je te maken met rouw en verlies?\
 nVoel je welkom op de Veldwijzer!\nIedere eerste maandag van de maand.
LOCATION:Veldwijzer\, Sterrenlaan 15\, Veldhoven\, 5503 BG\, Nederland
X-APPLE-STRUCTURED-LOCATION;VALUE=URI;X-ADDRESS=Sterrenlaan 15\, Veldhoven\
 , 5503 BG\, Nederland;X-APPLE-RADIUS=100;X-TITLE=Veldwijzer:geo:0,0
END:VEVENT
END:VCALENDAR