BEGIN:VCALENDAR
VERSION:2.0
PRODID:-//wp-events-plugin.com//7.2.3.1//EN
BEGIN:VEVENT
UID:94@swove.nl
DTSTART:20250312T133000Z
DTEND:20250312T150000Z
DTSTAMP:20250128T131914Z
URL:https://swove.nl/evenementen/bakkie-doen-22/
SUMMARY:Bakkie Doen
DESCRIPTION:Bij een kopje koffie worden vaak de beste gesprekken gevoerd. B
 ovendien is het gezellig om met andere mensen te praten. Daarom kun je bij
  SWOVE twee keer per maand een ‘Bakkie doen’.\n\nKom gezellig onder he
 t genot van een kopje koffie of thee een praatje maken. Iedereen is welkom
 \, dus ook degene voor wie je zorgt. Wij trakteren op het eerste kopje kof
 fie of thee mét iets lekkers erbij. Het tweede kopje koffie reken je af v
 ia je stempelkaart. Die kost € 5 en geeft recht op 11 kopjes koffie of t
 hee.\n\nAanmelden : niet nodig.
LOCATION:Veldwijzer\, Sterrenlaan 15\, Veldhoven\, 5503 BG\, Nederland
X-APPLE-STRUCTURED-LOCATION;VALUE=URI;X-ADDRESS=Sterrenlaan 15\, Veldhoven\
 , 5503 BG\, Nederland;X-APPLE-RADIUS=100;X-TITLE=Veldwijzer:geo:0,0
END:VEVENT
END:VCALENDAR